BEGIN:VCALENDAR
VERSION:2.0
PRODID:icalendar-ruby
CALSCALE:GREGORIAN
METHOD:PUBLISH
BEGIN:VEVENT
DTSTAMP:20260422T053152Z
UID:15-862226@cbcbenson.com
DTSTART:20261014T010000Z
DTEND:20261014T030000Z
CLASS:PUBLIC
CREATED:20260421T180317
DESCRIPTION:Join us every Tuesday evening as we Journey into Christ Likene
 ss. 
LAST-MODIFIED:20260421T180317
LOCATION:Fellowship Hall
SUMMARY:Men’s Bible Study
URL;VALUE=URI:https://cbcbenson.com/events/men-s-bible-study/2026-10-13
END:VEVENT
END:VCALENDAR
