BEGIN:VCALENDAR
VERSION:2.0
PRODID:icalendar-ruby
CALSCALE:GREGORIAN
METHOD:PUBLISH
BEGIN:VEVENT
DTSTAMP:20260424T085557Z
UID:25-871594@cbcbenson.com
DTSTART:20261014T010000Z
DTEND:20261014T030000Z
CLASS:PUBLIC
CREATED:20260423T194126
DESCRIPTION:
LAST-MODIFIED:20260423T194126
LOCATION:In the main building education wing
SUMMARY:Women's Bible Study
URL;VALUE=URI:https://cbcbenson.com/events/womens-bible-study/2026-10-13
END:VEVENT
END:VCALENDAR
