BEGIN:VCALENDAR
VERSION:2.0
PRODID:icalendar-ruby
CALSCALE:GREGORIAN
METHOD:PUBLISH
BEGIN:VEVENT
DTSTAMP:20260424T121059Z
UID:25-872359@cbcbenson.com
DTSTART:20261028T010000Z
DTEND:20261028T030000Z
CLASS:PUBLIC
CREATED:20260424T050953
DESCRIPTION:
LAST-MODIFIED:20260424T050953
LOCATION:In the main building education wing
SUMMARY:Women's Bible Study
URL;VALUE=URI:https://cbcbenson.com/events/womens-bible-study/2026-10-27
END:VEVENT
END:VCALENDAR
