BEGIN:VCALENDAR
VERSION:2.0
PRODID:icalendar-ruby
CALSCALE:GREGORIAN
METHOD:PUBLISH
BEGIN:VEVENT
DTSTAMP:20260424T134712Z
UID:25-872360@cbcbenson.com
DTSTART:20261104T010000Z
DTEND:20261104T030000Z
CLASS:PUBLIC
CREATED:20260424T050953
DESCRIPTION:
LAST-MODIFIED:20260424T050953
LOCATION:In the main building education wing
SUMMARY:Women's Bible Study
URL;VALUE=URI:https://cbcbenson.com/events/womens-bible-study/2026-11-03
END:VEVENT
END:VCALENDAR
